BEGIN:VCALENDAR
VERSION:2.0
PRODID:-//The Mitre Players - ECPv6.15.20//NONSGML v1.0//EN
CALSCALE:GREGORIAN
METHOD:PUBLISH
X-ORIGINAL-URL:https://mitreplayers.org.uk
X-WR-CALDESC:Events for The Mitre Players
REFRESH-INTERVAL;VALUE=DURATION:PT1H
X-Robots-Tag:noindex
X-PUBLISHED-TTL:PT1H
BEGIN:VTIMEZONE
TZID:Europe/London
BEGIN:DAYLIGHT
TZOFFSETFROM:+0000
TZOFFSETTO:+0100
TZNAME:BST
DTSTART:20240331T010000
END:DAYLIGHT
BEGIN:STANDARD
TZOFFSETFROM:+0100
TZOFFSETTO:+0000
TZNAME:GMT
DTSTART:20241027T010000
END:STANDARD
BEGIN:DAYLIGHT
TZOFFSETFROM:+0000
TZOFFSETTO:+0100
TZNAME:BST
DTSTART:20250330T010000
END:DAYLIGHT
BEGIN:STANDARD
TZOFFSETFROM:+0100
TZOFFSETTO:+0000
TZNAME:GMT
DTSTART:20251026T010000
END:STANDARD
BEGIN:DAYLIGHT
TZOFFSETFROM:+0000
TZOFFSETTO:+0100
TZNAME:BST
DTSTART:20260329T010000
END:DAYLIGHT
BEGIN:STANDARD
TZOFFSETFROM:+0100
TZOFFSETTO:+0000
TZNAME:GMT
DTSTART:20261025T010000
END:STANDARD
BEGIN:DAYLIGHT
TZOFFSETFROM:+0000
TZOFFSETTO:+0100
TZNAME:BST
DTSTART:20270328T010000
END:DAYLIGHT
BEGIN:STANDARD
TZOFFSETFROM:+0100
TZOFFSETTO:+0000
TZNAME:GMT
DTSTART:20271031T010000
END:STANDARD
END:VTIMEZONE
BEGIN:VEVENT
DTSTART;TZID=Europe/London:20260205T200000
DTEND;TZID=Europe/London:20260205T230000
DTSTAMP:20260424T202025
CREATED:20250614T100836Z
LAST-MODIFIED:20251231T212834Z
UID:5987-1770321600-1770332400@mitreplayers.org.uk
SUMMARY:Monthly Social
DESCRIPTION:
URL:https://mitreplayers.org.uk/event/monthly-social-15/
LOCATION:TMWA/TSSSC Clubhouse\, Lime Meadow Avenue\, Croydon\, Surrey\, CR2 9AS\, United Kingdom
END:VEVENT
BEGIN:VEVENT
DTSTART;TZID=Europe/London:20260204T193000
DTEND;TZID=Europe/London:20260204T220000
DTSTAMP:20260424T202025
CREATED:20251231T210257Z
LAST-MODIFIED:20251231T210257Z
UID:6224-1770233400-1770242400@mitreplayers.org.uk
SUMMARY:Colin's Choir
DESCRIPTION:
URL:https://mitreplayers.org.uk/event/colins-choir-2/
LOCATION:TMWA/TSSSC Clubhouse\, Lime Meadow Avenue\, Croydon\, Surrey\, CR2 9AS\, United Kingdom
END:VEVENT
BEGIN:VEVENT
DTSTART;TZID=Europe/London:20260121T193000
DTEND;TZID=Europe/London:20260121T220000
DTSTAMP:20260424T202025
CREATED:20251231T210112Z
LAST-MODIFIED:20251231T210112Z
UID:6222-1769023800-1769032800@mitreplayers.org.uk
SUMMARY:Colin's Choir
DESCRIPTION:
URL:https://mitreplayers.org.uk/event/colins-choir/
LOCATION:TMWA/TSSSC Clubhouse\, Lime Meadow Avenue\, Croydon\, Surrey\, CR2 9AS\, United Kingdom
END:VEVENT
BEGIN:VEVENT
DTSTART;TZID=Europe/London:20260111T180000
DTEND;TZID=Europe/London:20260111T210000
DTSTAMP:20260424T202025
CREATED:20250925T093626Z
LAST-MODIFIED:20250925T093626Z
UID:6110-1768154400-1768165200@mitreplayers.org.uk
SUMMARY:Ghost Train Auditions
DESCRIPTION:
URL:https://mitreplayers.org.uk/event/ghost-train-auditions/
LOCATION:TMWA/TSSSC Clubhouse\, Lime Meadow Avenue\, Croydon\, Surrey\, CR2 9AS\, United Kingdom
END:VEVENT
BEGIN:VEVENT
DTSTART;TZID=Europe/London:20251205T193000
DTEND;TZID=Europe/London:20251205T230000
DTSTAMP:20260424T202025
CREATED:20250614T100549Z
LAST-MODIFIED:20250901T203135Z
UID:5983-1764963000-1764975600@mitreplayers.org.uk
SUMMARY:Christmas Party and Ghost Train Launch
DESCRIPTION:
URL:https://mitreplayers.org.uk/event/christmas-party/
LOCATION:TMWA/TSSSC Clubhouse\, Lime Meadow Avenue\, Croydon\, Surrey\, CR2 9AS\, United Kingdom
END:VEVENT
BEGIN:VEVENT
DTSTART;TZID=Europe/London:20251031T193000
DTEND;TZID=Europe/London:20251031T220000
DTSTAMP:20260424T202025
CREATED:20250504T102515Z
LAST-MODIFIED:20250504T102515Z
UID:5863-1761939000-1761948000@mitreplayers.org.uk
SUMMARY:The Sunshine Boys
DESCRIPTION:
URL:https://mitreplayers.org.uk/event/the-sunshine-boys-3/
LOCATION:TMWA/TSSSC Clubhouse\, Lime Meadow Avenue\, Croydon\, Surrey\, CR2 9AS\, United Kingdom
END:VEVENT
BEGIN:VEVENT
DTSTART;TZID=Europe/London:20251030T193000
DTEND;TZID=Europe/London:20251030T220000
DTSTAMP:20260424T202025
CREATED:20250504T102445Z
LAST-MODIFIED:20250504T102445Z
UID:5861-1761852600-1761861600@mitreplayers.org.uk
SUMMARY:The Sunshine Boys
DESCRIPTION:
URL:https://mitreplayers.org.uk/event/the-sunshine-boys-2/
LOCATION:TMWA/TSSSC Clubhouse\, Lime Meadow Avenue\, Croydon\, Surrey\, CR2 9AS\, United Kingdom
END:VEVENT
BEGIN:VEVENT
DTSTART;TZID=Europe/London:20251029T193000
DTEND;TZID=Europe/London:20251029T220000
DTSTAMP:20260424T202025
CREATED:20250504T102421Z
LAST-MODIFIED:20250504T102421Z
UID:5859-1761766200-1761775200@mitreplayers.org.uk
SUMMARY:The Sunshine Boys
DESCRIPTION:
URL:https://mitreplayers.org.uk/event/the-sunshine-boys/
LOCATION:TMWA/TSSSC Clubhouse\, Lime Meadow Avenue\, Croydon\, Surrey\, CR2 9AS\, United Kingdom
END:VEVENT
BEGIN:VEVENT
DTSTART;TZID=Europe/London:20250914T140000
DTEND;TZID=Europe/London:20250914T170000
DTSTAMP:20260424T202025
CREATED:20250724T221713Z
LAST-MODIFIED:20250724T221713Z
UID:6008-1757858400-1757869200@mitreplayers.org.uk
SUMMARY:Car Rally / Treasure Hunt
DESCRIPTION:
URL:https://mitreplayers.org.uk/event/car-rally-treasure-hunt/
LOCATION:TMWA/TSSSC Clubhouse\, Lime Meadow Avenue\, Croydon\, Surrey\, CR2 9AS\, United Kingdom
ORGANIZER;CN="Alan Bishop":MAILTO:alan.bishop@mitreplayers.org.uk
END:VEVENT
BEGIN:VEVENT
DTSTART;TZID=Europe/London:20250904T200000
DTEND;TZID=Europe/London:20250904T230000
DTSTAMP:20260424T202025
CREATED:20250614T100734Z
LAST-MODIFIED:20250901T203223Z
UID:5985-1757016000-1757026800@mitreplayers.org.uk
SUMMARY:Monthly Social and Rock of Ages Reunion
DESCRIPTION:
URL:https://mitreplayers.org.uk/event/monthly-social-14/
LOCATION:TMWA/TSSSC Clubhouse\, Lime Meadow Avenue\, Croydon\, Surrey\, CR2 9AS\, United Kingdom
END:VEVENT
BEGIN:VEVENT
DTSTART;TZID=Europe/London:20250825T130000
DTEND;TZID=Europe/London:20250825T190000
DTSTAMP:20260424T202025
CREATED:20250311T220922Z
LAST-MODIFIED:20250311T220922Z
UID:5596-1756126800-1756148400@mitreplayers.org.uk
SUMMARY:Mitre BBQ
DESCRIPTION:
URL:https://mitreplayers.org.uk/event/mitre-bbq-2/
LOCATION:TMWA/TSSSC Clubhouse\, Lime Meadow Avenue\, Croydon\, Surrey\, CR2 9AS\, United Kingdom
END:VEVENT
BEGIN:VEVENT
DTSTART;TZID=Europe/London:20250802T193000
DTEND;TZID=Europe/London:20250802T223000
DTSTAMP:20260424T202025
CREATED:20250311T214717Z
LAST-MODIFIED:20250311T215157Z
UID:5578-1754163000-1754173800@mitreplayers.org.uk
SUMMARY:Rock of Ages: Performance at The Apollo Theatre\, Newport\, IOW.
DESCRIPTION:
URL:https://mitreplayers.org.uk/event/rock-of-ages-performance-at-the-apollo-theatre-newport-iow/
LOCATION:Apollo Theatre\, Newport\, Pyle Street\, Newport\, Isle of Wight\, PO30 1JT\, United Kingdom
END:VEVENT
BEGIN:VEVENT
DTSTART;TZID=Europe/London:20250801T193000
DTEND;TZID=Europe/London:20250801T223000
DTSTAMP:20260424T202025
CREATED:20250311T215124Z
LAST-MODIFIED:20250311T215124Z
UID:5585-1754076600-1754087400@mitreplayers.org.uk
SUMMARY:Rock of Ages: Performance at The Apollo Theatre\, Newport\, IOW.
DESCRIPTION:
URL:https://mitreplayers.org.uk/event/rock-of-ages-performance-at-the-apollo-theatre-newport-iow-4/
LOCATION:Apollo Theatre\, Newport\, Pyle Street\, Newport\, Isle of Wight\, PO30 1JT\, United Kingdom
END:VEVENT
BEGIN:VEVENT
DTSTART;TZID=Europe/London:20250731T193000
DTEND;TZID=Europe/London:20250731T223000
DTSTAMP:20260424T202025
CREATED:20250311T215047Z
LAST-MODIFIED:20250311T215047Z
UID:5581-1753990200-1754001000@mitreplayers.org.uk
SUMMARY:Rock of Ages: Performance at The Apollo Theatre\, Newport\, IOW.
DESCRIPTION:
URL:https://mitreplayers.org.uk/event/rock-of-ages-performance-at-the-apollo-theatre-newport-iow-3/
LOCATION:Apollo Theatre\, Newport\, Pyle Street\, Newport\, Isle of Wight\, PO30 1JT\, United Kingdom
END:VEVENT
BEGIN:VEVENT
DTSTART;TZID=Europe/London:20250730T193000
DTEND;TZID=Europe/London:20250730T223000
DTSTAMP:20260424T202025
CREATED:20250311T215000Z
LAST-MODIFIED:20250311T215000Z
UID:5582-1753903800-1753914600@mitreplayers.org.uk
SUMMARY:Rock of Ages: Performance at The Apollo Theatre\, Newport\, IOW.
DESCRIPTION:
URL:https://mitreplayers.org.uk/event/rock-of-ages-performance-at-the-apollo-theatre-newport-iow-2/
LOCATION:Apollo Theatre\, Newport\, Pyle Street\, Newport\, Isle of Wight\, PO30 1JT\, United Kingdom
END:VEVENT
BEGIN:VEVENT
DTSTART;TZID=Europe/London:20250729T193000
DTEND;TZID=Europe/London:20250729T223000
DTSTAMP:20260424T202025
CREATED:20250311T215231Z
LAST-MODIFIED:20250311T220054Z
UID:5580-1753817400-1753828200@mitreplayers.org.uk
SUMMARY:Rock of Ages: Performance at The Apollo Theatre\, Newport\, IOW.
DESCRIPTION:
URL:https://mitreplayers.org.uk/event/rock-of-ages-performance-at-the-apollo-theatre-newport-iow-5/
LOCATION:Apollo Theatre\, Newport\, Pyle Street\, Newport\, Isle of Wight\, PO30 1JT\, United Kingdom
END:VEVENT
BEGIN:VEVENT
DTSTART;TZID=Europe/London:20250719T150000
DTEND;TZID=Europe/London:20250719T173000
DTSTAMP:20260424T202025
CREATED:20250311T214207Z
LAST-MODIFIED:20250429T100833Z
UID:5568-1752937200-1752946200@mitreplayers.org.uk
SUMMARY:Rock of Ages: Performance at The Mitre Theatre\, Trinity School
DESCRIPTION:
URL:https://mitreplayers.org.uk/event/rock-of-ages-performance-at-ther-mitre-theatre-trinity-school/
LOCATION:The Mitre Theatre\, Trinity School\, Shirley Park\, Croydon\, Surrey\, CR9 7AT\, United Kingdom
END:VEVENT
BEGIN:VEVENT
DTSTART;TZID=Europe/London:20250718T193000
DTEND;TZID=Europe/London:20250718T223000
DTSTAMP:20260424T202025
CREATED:20250311T214443Z
LAST-MODIFIED:20250311T214443Z
UID:5570-1752867000-1752877800@mitreplayers.org.uk
SUMMARY:Rock of Ages: Performance at The Mitre Theatre\, Trinity School
DESCRIPTION:
URL:https://mitreplayers.org.uk/event/rock-of-ages-performance-at-the-mitre-theatre-trinity-school-2/
LOCATION:The Mitre Theatre\, Trinity School\, Shirley Park\, Croydon\, Surrey\, CR9 7AT\, United Kingdom
END:VEVENT
BEGIN:VEVENT
DTSTART;TZID=Europe/London:20250717T193000
DTEND;TZID=Europe/London:20250717T223000
DTSTAMP:20260424T202025
CREATED:20250311T214302Z
LAST-MODIFIED:20250311T214340Z
UID:5572-1752780600-1752791400@mitreplayers.org.uk
SUMMARY:Rock of Ages: Performance at The Mitre Theatre\, Trinity School
DESCRIPTION:
URL:https://mitreplayers.org.uk/event/rock-of-ages-performance-at-ther-mitre-theatre-trinity-school-2/
LOCATION:The Mitre Theatre\, Trinity School\, Shirley Park\, Croydon\, Surrey\, CR9 7AT\, United Kingdom
END:VEVENT
BEGIN:VEVENT
DTSTART;TZID=Europe/London:20250716T193000
DTEND;TZID=Europe/London:20250716T223000
DTSTAMP:20260424T202025
CREATED:20250311T214408Z
LAST-MODIFIED:20250311T214408Z
UID:5571-1752694200-1752705000@mitreplayers.org.uk
SUMMARY:Rock of Ages: Performance at The Mitre Theatre\, Trinity School
DESCRIPTION:
URL:https://mitreplayers.org.uk/event/rock-of-ages-performance-at-the-mitre-theatre-trinity-school/
LOCATION:The Mitre Theatre\, Trinity School\, Shirley Park\, Croydon\, Surrey\, CR9 7AT\, United Kingdom
END:VEVENT
BEGIN:VEVENT
DTSTART;TZID=Europe/London:20250703T200000
DTEND;TZID=Europe/London:20250703T223000
DTSTAMP:20260424T202025
CREATED:20250311T221215Z
LAST-MODIFIED:20250311T221215Z
UID:5600-1751572800-1751581800@mitreplayers.org.uk
SUMMARY:Monthly Social
DESCRIPTION:
URL:https://mitreplayers.org.uk/event/monthly-social-13/
LOCATION:TMWA/TSSSC Clubhouse\, Lime Meadow Avenue\, Croydon\, Surrey\, CR2 9AS\, United Kingdom
END:VEVENT
BEGIN:VEVENT
DTSTART;TZID=Europe/London:20250610T200000
DTEND;TZID=Europe/London:20250610T220000
DTSTAMP:20260424T202025
CREATED:20250529T225039Z
LAST-MODIFIED:20250529T225039Z
UID:5927-1749585600-1749592800@mitreplayers.org.uk
SUMMARY:AUDITIONS: The Sunshine Boys
DESCRIPTION:
URL:https://mitreplayers.org.uk/event/auditions-the-sunshine-boys/
LOCATION:TMWA/TSSSC Clubhouse\, Lime Meadow Avenue\, Croydon\, Surrey\, CR2 9AS\, United Kingdom
END:VEVENT
BEGIN:VEVENT
DTSTART;TZID=Europe/London:20250608T123000
DTEND;TZID=Europe/London:20250608T170000
DTSTAMP:20260424T202025
CREATED:20250503T153231Z
LAST-MODIFIED:20250603T145714Z
UID:5828-1749385800-1749402000@mitreplayers.org.uk
SUMMARY:Mitre Car Rally
DESCRIPTION:
URL:https://mitreplayers.org.uk/event/mitre-car-rally-provisional/
LOCATION:TMWA/TSSSC Clubhouse\, Lime Meadow Avenue\, Croydon\, Surrey\, CR2 9AS\, United Kingdom
END:VEVENT
BEGIN:VEVENT
DTSTART;TZID=Europe/London:20250605T200000
DTEND;TZID=Europe/London:20250605T223000
DTSTAMP:20260424T202025
CREATED:20250311T221053Z
LAST-MODIFIED:20250311T221053Z
UID:5598-1749153600-1749162600@mitreplayers.org.uk
SUMMARY:Mitre Social and AGM
DESCRIPTION:
URL:https://mitreplayers.org.uk/event/mitre-social-and-agm-2/
LOCATION:TMWA/TSSSC Clubhouse\, Lime Meadow Avenue\, Croydon\, Surrey\, CR2 9AS\, United Kingdom
END:VEVENT
BEGIN:VEVENT
DTSTART;TZID=Europe/London:20250529T193000
DTEND;TZID=Europe/London:20250529T203000
DTSTAMP:20260424T202025
CREATED:20250311T220736Z
LAST-MODIFIED:20250311T220736Z
UID:5594-1748547000-1748550600@mitreplayers.org.uk
SUMMARY:Trinity Club and TSSSC AGMs
DESCRIPTION:
URL:https://mitreplayers.org.uk/event/trinity-club-and-tsssc-agms-2/
LOCATION:TMWA/TSSSC Clubhouse\, Lime Meadow Avenue\, Croydon\, Surrey\, CR2 9AS\, United Kingdom
END:VEVENT
BEGIN:VEVENT
DTSTART;TZID=Europe/London:20250509T193000
DTEND;TZID=Europe/London:20250509T233000
DTSTAMP:20260424T202025
CREATED:20250311T220249Z
LAST-MODIFIED:20250311T220249Z
UID:5590-1746819000-1746833400@mitreplayers.org.uk
SUMMARY:Mitres Member Party
DESCRIPTION:
URL:https://mitreplayers.org.uk/event/mitres-member-party/
LOCATION:TMWA/TSSSC Clubhouse\, Lime Meadow Avenue\, Croydon\, Surrey\, CR2 9AS\, United Kingdom
END:VEVENT
BEGIN:VEVENT
DTSTART;TZID=Europe/London:20250501T200000
DTEND;TZID=Europe/London:20250501T230000
DTSTAMP:20260424T202025
CREATED:20240913T230728Z
LAST-MODIFIED:20250420T141819Z
UID:5008-1746129600-1746140400@mitreplayers.org.uk
SUMMARY:Monthly Social
DESCRIPTION:
URL:https://mitreplayers.org.uk/event/monthly-social-and-rock-of-ages-1st-rehearsal/
LOCATION:TMWA/TSSSC Clubhouse\, Lime Meadow Avenue\, Croydon\, Surrey\, CR2 9AS\, United Kingdom
END:VEVENT
BEGIN:VEVENT
DTSTART;TZID=Europe/London:20250412T170000
DTEND;TZID=Europe/London:20250412T200000
DTSTAMP:20260424T202025
CREATED:20241227T174756Z
LAST-MODIFIED:20241229T151253Z
UID:5266-1744477200-1744488000@mitreplayers.org.uk
SUMMARY:Urinetown: Performance at The Mitre Theatre\, Trinity School.
DESCRIPTION:
URL:https://mitreplayers.org.uk/event/urinetown-performance-3/
LOCATION:The Mitre Theatre\, Trinity School\, Shirley Park\, Croydon\, Surrey\, CR9 7AT\, United Kingdom
END:VEVENT
BEGIN:VEVENT
DTSTART;TZID=Europe/London:20250411T193000
DTEND;TZID=Europe/London:20250411T223000
DTSTAMP:20260424T202025
CREATED:20241227T174719Z
LAST-MODIFIED:20241229T151329Z
UID:5264-1744399800-1744410600@mitreplayers.org.uk
SUMMARY:Urinetown: Performance at The Mitre Theatre\, Trinity School.
DESCRIPTION:
URL:https://mitreplayers.org.uk/event/urinetown-performance-2/
LOCATION:The Mitre Theatre\, Trinity School\, Shirley Park\, Croydon\, Surrey\, CR9 7AT\, United Kingdom
END:VEVENT
BEGIN:VEVENT
DTSTART;TZID=Europe/London:20250410T193000
DTEND;TZID=Europe/London:20250410T223000
DTSTAMP:20260424T202025
CREATED:20241227T174652Z
LAST-MODIFIED:20241229T151351Z
UID:5262-1744313400-1744324200@mitreplayers.org.uk
SUMMARY:Urinetown: Performance at The Mitre Theatre\, Trinity School.
DESCRIPTION:
URL:https://mitreplayers.org.uk/event/urinetown-performance/
LOCATION:The Mitre Theatre\, Trinity School\, Shirley Park\, Croydon\, Surrey\, CR9 7AT\, United Kingdom
END:VEVENT
END:VCALENDAR